BEGIN:VCALENDAR
VERSION:2.0
PRODID:-//wp-events-plugin.com//7.2.2.1//EN
TZID:Europe/London
X-WR-TIMEZONE:Europe/London
BEGIN:VEVENT
UID:192@bhasc.com
DTSTART;TZID=Europe/London:20240813T190000
DTEND;TZID=Europe/London:20240813T200000
DTSTAMP:20240707T205536Z
URL:https://bhasc.com/wp/events/albion-fans-forum-2/
SUMMARY:Albion Fans' Forum
DESCRIPTION:Traditional pre-season event. Entry free for up to 400 fans but
  by advance ticket only. Broadcast live on the Albion website and BBC Radi
 o Sussex.
CATEGORIES:Meeting
LOCATION:Amex Stadium\, Village Way\, Falmer\, Brighton\, BN1 9BL\, United 
 Kingdom
X-APPLE-STRUCTURED-LOCATION;VALUE=URI;X-ADDRESS=Village Way\, Falmer\, Brig
 hton\, BN1 9BL\, United Kingdom;X-APPLE-RADIUS=100;X-TITLE=Amex Stadium:ge
 o:0,0
END:VEVENT
BEGIN:VTIMEZONE
TZID:Europe/London
X-LIC-LOCATION:Europe/London
BEGIN:DAYLIGHT
DTSTART:20240331T020000
TZOFFSETFROM:+0000
TZOFFSETTO:+0100
TZNAME:BST
END:DAYLIGHT
END:VTIMEZONE
END:VCALENDAR